BEGIN:VCALENDAR
PRODID:-//github.com/rianjs/ical.net//NONSGML ical.net 4.0//EN
VERSION:2.0
BEGIN:VTIMEZONE
TZID:Pacific Standard Time
X-LIC-LOCATION:America/Los_Angeles
BEGIN:STANDARD
DTSTART:20241103T020000
RRULE:FREQ=YEARLY;BYDAY=1SU;BYMONTH=11
TZNAME:PST
TZOFFSETFROM:-0700
TZOFFSETTO:-0800
END:STANDARD
BEGIN:DAYLIGHT
DTSTART:20250309T020000
RRULE:FREQ=YEARLY;BYDAY=2SU;BYMONTH=3
TZNAME:PDT
TZOFFSETFROM:-0800
TZOFFSETTO:-0700
END:DAYLIGHT
END:VTIMEZONE
BEGIN:VEVENT
DESCRIPTION:2025 Annual Meeting by the American Academy of Neurology\n\nTi
 tle: University of New Mexico Department of Neurology Reception\n\nDescri
 ption: This reception will be an opportunity for individuals associated w
 ith the UNM Department of Neurology to gather and connect.\n\nLearn More 
 About This Event: https://www.aan.com/MSA/Public/Events/Details/18241
DTEND;TZID=Pacific Standard Time:20250408T203000
DTSTAMP:20260421T081319Z
DTSTART;TZID=Pacific Standard Time:20250408T180000
LOCATION:https://www.aan.com/MSA/Public/Events/GetEventURL/18241
SEQUENCE:0
SUMMARY:AAN: University of New Mexico Department of Neurology Reception
UID:2bc7b5de-a197-4c12-828e-ea850b66a790
END:VEVENT
END:VCALENDAR
