BEGIN:VCALENDAR
PRODID:-//github.com/rianjs/ical.net//NONSGML ical.net 4.0//EN
VERSION:2.0
BEGIN:VTIMEZONE
TZID:Pacific Standard Time
X-LIC-LOCATION:America/Los_Angeles
BEGIN:STANDARD
DTSTART:20241103T020000
RRULE:FREQ=YEARLY;BYDAY=1SU;BYMONTH=11
TZNAME:PST
TZOFFSETFROM:-0700
TZOFFSETTO:-0800
END:STANDARD
BEGIN:DAYLIGHT
DTSTART:20250309T020000
RRULE:FREQ=YEARLY;BYDAY=2SU;BYMONTH=3
TZNAME:PDT
TZOFFSETFROM:-0800
TZOFFSETTO:-0700
END:DAYLIGHT
END:VTIMEZONE
BEGIN:VEVENT
DESCRIPTION:2025 Annual Meeting by the American Academy of Neurology\n\nTi
 tle: Leading & Producing Change Through Synergy (Leadership University)\n
 \nAccess URL: https://www.aan.com/MSA/Public/Events/GetEventURL/18243\n\n
 Learn More About This Event: https://www.aan.com/MSA/Public/Events/Detail
 s/18243
DTEND;TZID=Pacific Standard Time:20250406T153000
DTSTAMP:20260421T082632Z
DTSTART;TZID=Pacific Standard Time:20250406T143000
LOCATION:https://www.aan.com/MSA/Public/Events/GetEventURL/18243
SEQUENCE:0
SUMMARY:AAN: Leading & Producing Change Through Synergy (Leadership Univer
 sity)
UID:fb3a107b-0005-4c41-9a0b-35750ea7b12d
END:VEVENT
END:VCALENDAR
