BEGIN:VCALENDAR
PRODID:-//github.com/rianjs/ical.net//NONSGML ical.net 4.0//EN
VERSION:2.0
BEGIN:VTIMEZONE
TZID:Pacific Standard Time
X-LIC-LOCATION:America/Los_Angeles
BEGIN:STANDARD
DTSTART:20241103T020000
RRULE:FREQ=YEARLY;BYDAY=1SU;BYMONTH=11
TZNAME:PST
TZOFFSETFROM:-0700
TZOFFSETTO:-0800
END:STANDARD
BEGIN:DAYLIGHT
DTSTART:20250309T020000
RRULE:FREQ=YEARLY;BYDAY=2SU;BYMONTH=3
TZNAME:PDT
TZOFFSETFROM:-0800
TZOFFSETTO:-0700
END:DAYLIGHT
END:VTIMEZONE
BEGIN:VEVENT
DESCRIPTION:2025 Annual Meeting by the American Academy of Neurology\n\nTi
 tle: Neuro-fiber Arts: Embroider Your Cape and Mask! (Wellness Hub)\n\nAc
 cess URL: https://www.aan.com/MSA/Public/Events/GetEventURL/18249\n\nLear
 n More About This Event: https://www.aan.com/MSA/Public/Events/Details/18
 249
DTEND;TZID=Pacific Standard Time:20250406T124500
DTSTAMP:20260421T082448Z
DTSTART;TZID=Pacific Standard Time:20250406T120000
LOCATION:https://www.aan.com/MSA/Public/Events/GetEventURL/18249
SEQUENCE:0
SUMMARY:AAN: Neuro-fiber Arts: Embroider Your Cape and Mask! (Wellness Hub)
UID:31a6d9b0-0b6b-4dba-ae0a-16e94f65d4f8
END:VEVENT
END:VCALENDAR
