BEGIN:VCALENDAR
PRODID:-//github.com/rianjs/ical.net//NONSGML ical.net 4.0//EN
VERSION:2.0
BEGIN:VTIMEZONE
TZID:Pacific Standard Time
X-LIC-LOCATION:America/Los_Angeles
BEGIN:STANDARD
DTSTART:20241103T020000
RRULE:FREQ=YEARLY;BYDAY=1SU;BYMONTH=11
TZNAME:PST
TZOFFSETFROM:-0700
TZOFFSETTO:-0800
END:STANDARD
BEGIN:DAYLIGHT
DTSTART:20250309T020000
RRULE:FREQ=YEARLY;BYDAY=2SU;BYMONTH=3
TZNAME:PDT
TZOFFSETFROM:-0800
TZOFFSETTO:-0700
END:DAYLIGHT
END:VTIMEZONE
BEGIN:VEVENT
DESCRIPTION:2025 Annual Meeting by the American Academy of Neurology\n\nTi
 tle: Fashion in the Workplace: How Being Your Authentic Self Can Promote 
 Wellness (Wellness Hub)\n\nAccess URL: https://www.aan.com/MSA/Public/Eve
 nts/GetEventURL/18264\n\nLearn More About This Event: https://www.aan.com
 /MSA/Public/Events/Details/18264
DTEND;TZID=Pacific Standard Time:20250407T084500
DTSTAMP:20260421T081243Z
DTSTART;TZID=Pacific Standard Time:20250407T080000
LOCATION:https://www.aan.com/MSA/Public/Events/GetEventURL/18264
SEQUENCE:0
SUMMARY:AAN: Fashion in the Workplace: How Being Your Authentic Self Can P
 romote Wellness (Wellness Hub)
UID:5df89f0e-4758-4755-9f0f-0a3824bb18ff
END:VEVENT
END:VCALENDAR
