BEGIN:VCALENDAR
PRODID:-//github.com/rianjs/ical.net//NONSGML ical.net 4.0//EN
VERSION:2.0
BEGIN:VTIMEZONE
TZID:Pacific Standard Time
X-LIC-LOCATION:America/Los_Angeles
BEGIN:STANDARD
DTSTART:20241103T020000
RRULE:FREQ=YEARLY;BYDAY=1SU;BYMONTH=11
TZNAME:PST
TZOFFSETFROM:-0700
TZOFFSETTO:-0800
END:STANDARD
BEGIN:DAYLIGHT
DTSTART:20250309T020000
RRULE:FREQ=YEARLY;BYDAY=2SU;BYMONTH=3
TZNAME:PDT
TZOFFSETFROM:-0800
TZOFFSETTO:-0700
END:DAYLIGHT
END:VTIMEZONE
BEGIN:VEVENT
DESCRIPTION:2025 Annual Meeting by the American Academy of Neurology\n\nTi
 tle: Leadership Development Forum\n\nAccess URL: https://www.aan.com/MSA/
 Public/Events/GetEventURL/18267\n\nLearn More About This Event: https://w
 ww.aan.com/MSA/Public/Events/Details/18267
DTEND;TZID=Pacific Standard Time:20250405T153000
DTSTAMP:20260421T081112Z
DTSTART;TZID=Pacific Standard Time:20250405T090000
LOCATION:https://www.aan.com/MSA/Public/Events/GetEventURL/18267
SEQUENCE:0
SUMMARY:AAN: Leadership Development Forum
UID:78f19f59-da13-497f-b233-b3b2af86e107
END:VEVENT
END:VCALENDAR
