BEGIN:VCALENDAR
PRODID:-//github.com/rianjs/ical.net//NONSGML ical.net 4.0//EN
VERSION:2.0
BEGIN:VTIMEZONE
TZID:Pacific Standard Time
X-LIC-LOCATION:America/Los_Angeles
BEGIN:STANDARD
DTSTART:20241103T020000
RRULE:FREQ=YEARLY;BYDAY=1SU;BYMONTH=11
TZNAME:PST
TZOFFSETFROM:-0700
TZOFFSETTO:-0800
END:STANDARD
BEGIN:DAYLIGHT
DTSTART:20250309T020000
RRULE:FREQ=YEARLY;BYDAY=2SU;BYMONTH=3
TZNAME:PDT
TZOFFSETFROM:-0800
TZOFFSETTO:-0700
END:DAYLIGHT
END:VTIMEZONE
BEGIN:VEVENT
DESCRIPTION:2025 Annual Meeting by the American Academy of Neurology\n\nTi
 tle: Industry Therapeutic Update from UCB\, Inc.: Earlier Identification 
 and Treatment of Patients with a Developmental and Epileptic Encephalopat
 hy (DEE): Taking A Close Look at Lennox-Gastaut Syndrome (LGS)\n\nAccess 
 URL: https://www.aan.com/MSA/Public/Events/GetEventURL/18270\n\nLearn Mor
 e About This Event: https://www.aan.com/MSA/Public/Events/Details/18270
DTEND;TZID=Pacific Standard Time:20250405T124500
DTSTAMP:20260421T081329Z
DTSTART;TZID=Pacific Standard Time:20250405T114500
LOCATION:https://www.aan.com/MSA/Public/Events/GetEventURL/18270
SEQUENCE:0
SUMMARY:AAN: Industry Therapeutic Update from UCB\, Inc.: Earlier Identifi
 cation and Treatment of Patients with a Developmental and Epileptic Encep
 halopathy (DEE): Taking A Close Look at Lennox-Gastaut Syndrome (LGS)
UID:05331b21-8ced-40a2-a805-9f3a6f3a32f6
END:VEVENT
END:VCALENDAR
