BEGIN:VCALENDAR
PRODID:-//github.com/rianjs/ical.net//NONSGML ical.net 4.0//EN
VERSION:2.0
BEGIN:VTIMEZONE
TZID:Pacific Standard Time
X-LIC-LOCATION:America/Los_Angeles
BEGIN:STANDARD
DTSTART:20241103T020000
RRULE:FREQ=YEARLY;BYDAY=1SU;BYMONTH=11
TZNAME:PST
TZOFFSETFROM:-0700
TZOFFSETTO:-0800
END:STANDARD
BEGIN:DAYLIGHT
DTSTART:20250309T020000
RRULE:FREQ=YEARLY;BYDAY=2SU;BYMONTH=3
TZNAME:PDT
TZOFFSETFROM:-0800
TZOFFSETTO:-0700
END:DAYLIGHT
END:VTIMEZONE
BEGIN:VEVENT
DESCRIPTION:2025 Annual Meeting by the American Academy of Neurology\n\nTi
 tle: Experienced Coordinator Panel\n\nAccess URL: https://www.aan.com/MSA
 /Public/Events/GetEventURL/18274\n\nLearn More About This Event: https://
 www.aan.com/MSA/Public/Events/Details/18274
DTEND;TZID=Pacific Standard Time:20250406T101500
DTSTAMP:20260421T082730Z
DTSTART;TZID=Pacific Standard Time:20250406T093000
LOCATION:https://www.aan.com/MSA/Public/Events/GetEventURL/18274
SEQUENCE:0
SUMMARY:AAN: Experienced Coordinator Panel
UID:84fc41b3-3c6e-4872-a717-8f42d5623e3e
END:VEVENT
END:VCALENDAR
