BEGIN:VCALENDAR
PRODID:-//github.com/rianjs/ical.net//NONSGML ical.net 4.0//EN
VERSION:2.0
BEGIN:VTIMEZONE
TZID:Pacific Standard Time
X-LIC-LOCATION:America/Los_Angeles
BEGIN:STANDARD
DTSTART:20241103T020000
RRULE:FREQ=YEARLY;BYDAY=1SU;BYMONTH=11
TZNAME:PST
TZOFFSETFROM:-0700
TZOFFSETTO:-0800
END:STANDARD
BEGIN:DAYLIGHT
DTSTART:20250309T020000
RRULE:FREQ=YEARLY;BYDAY=2SU;BYMONTH=3
TZNAME:PDT
TZOFFSETFROM:-0800
TZOFFSETTO:-0700
END:DAYLIGHT
END:VTIMEZONE
BEGIN:VEVENT
DESCRIPTION:2025 Annual Meeting by the American Academy of Neurology\n\nTi
 tle: What Coordinators Should Know about Using Artificial Intelligence\n\
 nAccess URL: https://www.aan.com/MSA/Public/Events/GetEventURL/18284\n\nL
 earn More About This Event: https://www.aan.com/MSA/Public/Events/Details
 /18284
DTEND;TZID=Pacific Standard Time:20250407T093000
DTSTAMP:20260421T081152Z
DTSTART;TZID=Pacific Standard Time:20250407T083000
LOCATION:https://www.aan.com/MSA/Public/Events/GetEventURL/18284
SEQUENCE:0
SUMMARY:AAN: What Coordinators Should Know about Using Artificial Intellig
 ence
UID:5c2c4a2c-63d7-452d-92d2-57eda5ef4c94
END:VEVENT
END:VCALENDAR
