BEGIN:VCALENDAR
PRODID:-//github.com/rianjs/ical.net//NONSGML ical.net 4.0//EN
VERSION:2.0
BEGIN:VTIMEZONE
TZID:Pacific Standard Time
X-LIC-LOCATION:America/Los_Angeles
BEGIN:STANDARD
DTSTART:20241103T020000
RRULE:FREQ=YEARLY;BYDAY=1SU;BYMONTH=11
TZNAME:PST
TZOFFSETFROM:-0700
TZOFFSETTO:-0800
END:STANDARD
BEGIN:DAYLIGHT
DTSTART:20250309T020000
RRULE:FREQ=YEARLY;BYDAY=2SU;BYMONTH=3
TZNAME:PDT
TZOFFSETFROM:-0800
TZOFFSETTO:-0700
END:DAYLIGHT
END:VTIMEZONE
BEGIN:VEVENT
DESCRIPTION:2025 Annual Meeting by the American Academy of Neurology\n\nTi
 tle: Industry Therapeutic Update from Alexion\, AstraZeneca Rare Disease:
  Evolving our understanding of a complement inhibitor in anti-AChR antibo
 dy-positive gMG: Expert panel reviews pivotal study and long-term data…\n
 \nAccess URL: https://www.aan.com/MSA/Public/Events/GetEventURL/18292\n\n
 Learn More About This Event: https://www.aan.com/MSA/Public/Events/Detail
 s/18292
DTEND;TZID=Pacific Standard Time:20250409T124500
DTSTAMP:20260421T082632Z
DTSTART;TZID=Pacific Standard Time:20250409T114500
LOCATION:https://www.aan.com/MSA/Public/Events/GetEventURL/18292
SEQUENCE:0
SUMMARY:AAN: Industry Therapeutic Update from Alexion\, AstraZeneca Rare D
 isease: Evolving our understanding of a complement inhibitor in anti-AChR
  antibody-positive gMG: Expert panel reviews pivotal study and long-term 
 data…
UID:bff089c9-fd99-49c5-aead-5738d502664b
END:VEVENT
END:VCALENDAR
