BEGIN:VCALENDAR
PRODID:-//github.com/rianjs/ical.net//NONSGML ical.net 4.0//EN
VERSION:2.0
BEGIN:VTIMEZONE
TZID:Pacific Standard Time
X-LIC-LOCATION:America/Los_Angeles
BEGIN:STANDARD
DTSTART:20241103T020000
RRULE:FREQ=YEARLY;BYDAY=1SU;BYMONTH=11
TZNAME:PST
TZOFFSETFROM:-0700
TZOFFSETTO:-0800
END:STANDARD
BEGIN:DAYLIGHT
DTSTART:20250309T020000
RRULE:FREQ=YEARLY;BYDAY=2SU;BYMONTH=3
TZNAME:PDT
TZOFFSETFROM:-0800
TZOFFSETTO:-0700
END:DAYLIGHT
END:VTIMEZONE
BEGIN:VEVENT
DESCRIPTION:2025 Annual Meeting by the American Academy of Neurology\n\nTi
 tle: Industry Therapeutic Update from Eisai Inc.: Driving Change for Anti
 -amyloid Therapy Implementation: Overcoming Challenges Across Practice Se
 ttings\n\nAccess URL: https://www.aan.com/MSA/Public/Events/GetEventURL/1
 8294\n\nLearn More About This Event: https://www.aan.com/MSA/Public/Event
 s/Details/18294
DTEND;TZID=Pacific Standard Time:20250407T124500
DTSTAMP:20260421T080945Z
DTSTART;TZID=Pacific Standard Time:20250407T114500
LOCATION:https://www.aan.com/MSA/Public/Events/GetEventURL/18294
SEQUENCE:0
SUMMARY:AAN: Industry Therapeutic Update from Eisai Inc.: Driving Change f
 or Anti-amyloid Therapy Implementation: Overcoming Challenges Across Prac
 tice Settings
UID:f5bc1a86-7b24-4e62-84ad-64fbbf0a6f13
END:VEVENT
END:VCALENDAR
