BEGIN:VCALENDAR
PRODID:-//github.com/rianjs/ical.net//NONSGML ical.net 4.0//EN
VERSION:2.0
BEGIN:VTIMEZONE
TZID:Pacific Standard Time
X-LIC-LOCATION:America/Los_Angeles
BEGIN:STANDARD
DTSTART:20241103T020000
RRULE:FREQ=YEARLY;BYDAY=1SU;BYMONTH=11
TZNAME:PST
TZOFFSETFROM:-0700
TZOFFSETTO:-0800
END:STANDARD
BEGIN:DAYLIGHT
DTSTART:20250309T020000
RRULE:FREQ=YEARLY;BYDAY=2SU;BYMONTH=3
TZNAME:PDT
TZOFFSETFROM:-0800
TZOFFSETTO:-0700
END:DAYLIGHT
END:VTIMEZONE
BEGIN:VEVENT
DESCRIPTION:2025 Annual Meeting by the American Academy of Neurology\n\nTi
 tle: Industry Thereapeutic Update from The Global CEO Initiative on Alzhe
 imer's Disease: Blood-Based Biomarkers for Alzheimer’s Disease: A New Era
  in Diagnosis and Clinical Care\n\nAccess URL: https://www.aan.com/MSA/Pu
 blic/Events/GetEventURL/18296\n\nLearn More About This Event: https://www
 .aan.com/MSA/Public/Events/Details/18296
DTEND;TZID=Pacific Standard Time:20250405T124500
DTSTAMP:20260421T081439Z
DTSTART;TZID=Pacific Standard Time:20250405T114500
LOCATION:https://www.aan.com/MSA/Public/Events/GetEventURL/18296
SEQUENCE:0
SUMMARY:AAN: Industry Thereapeutic Update from The Global CEO Initiative o
 n Alzheimer's Disease: Blood-Based Biomarkers for Alzheimer’s Disease: A 
 New Era in Diagnosis and Clinical Care
UID:97f2139b-88e3-4319-8127-71f9471fc72d
END:VEVENT
END:VCALENDAR
