BEGIN:VCALENDAR
PRODID:-//github.com/rianjs/ical.net//NONSGML ical.net 4.0//EN
VERSION:2.0
BEGIN:VTIMEZONE
TZID:Pacific Standard Time
X-LIC-LOCATION:America/Los_Angeles
BEGIN:STANDARD
DTSTART:20241103T020000
RRULE:FREQ=YEARLY;BYDAY=1SU;BYMONTH=11
TZNAME:PST
TZOFFSETFROM:-0700
TZOFFSETTO:-0800
END:STANDARD
BEGIN:DAYLIGHT
DTSTART:20250309T020000
RRULE:FREQ=YEARLY;BYDAY=2SU;BYMONTH=3
TZNAME:PDT
TZOFFSETFROM:-0800
TZOFFSETTO:-0700
END:DAYLIGHT
END:VTIMEZONE
BEGIN:VEVENT
DESCRIPTION:2025 Annual Meeting by the American Academy of Neurology\n\nTi
 tle: Industry Therapeutic Update from Amneal Pharmaceuticals: Innovation 
 and outcomes: A case-based discussion about CREXONT® (carbidopa and levod
 opa) extended-release capsules\n\nAccess URL: https://www.aan.com/MSA/Pub
 lic/Events/GetEventURL/18297\n\nLearn More About This Event: https://www.
 aan.com/MSA/Public/Events/Details/18297
DTEND;TZID=Pacific Standard Time:20250405T124500
DTSTAMP:20260421T081244Z
DTSTART;TZID=Pacific Standard Time:20250405T114500
LOCATION:https://www.aan.com/MSA/Public/Events/GetEventURL/18297
SEQUENCE:0
SUMMARY:AAN: Industry Therapeutic Update from Amneal Pharmaceuticals: Inno
 vation and outcomes: A case-based discussion about CREXONT® (carbidopa an
 d levodopa) extended-release capsules
UID:16e0811c-99f9-42ab-9f61-36d798203894
END:VEVENT
END:VCALENDAR
