BEGIN:VCALENDAR
PRODID:-//github.com/rianjs/ical.net//NONSGML ical.net 4.0//EN
VERSION:2.0
BEGIN:VTIMEZONE
TZID:Pacific Standard Time
X-LIC-LOCATION:America/Los_Angeles
BEGIN:STANDARD
DTSTART:20241103T020000
RRULE:FREQ=YEARLY;BYDAY=1SU;BYMONTH=11
TZNAME:PST
TZOFFSETFROM:-0700
TZOFFSETTO:-0800
END:STANDARD
BEGIN:DAYLIGHT
DTSTART:20250309T020000
RRULE:FREQ=YEARLY;BYDAY=2SU;BYMONTH=3
TZNAME:PDT
TZOFFSETFROM:-0800
TZOFFSETTO:-0700
END:DAYLIGHT
END:VTIMEZONE
BEGIN:VEVENT
DESCRIPTION:2025 Annual Meeting by the American Academy of Neurology\n\nTi
 tle: Industry Therapeutic Update from Immunovant\, Inc.: Myasthenia Gravi
 s – Evolving Therapeutic Landscape\n\nAccess URL: https://www.aan.com/MSA
 /Public/Events/GetEventURL/18307\n\nLearn More About This Event: https://
 www.aan.com/MSA/Public/Events/Details/18307
DTEND;TZID=Pacific Standard Time:20250407T200000
DTSTAMP:20260421T082553Z
DTSTART;TZID=Pacific Standard Time:20250407T180000
LOCATION:https://www.aan.com/MSA/Public/Events/GetEventURL/18307
SEQUENCE:0
SUMMARY:AAN: Industry Therapeutic Update from Immunovant\, Inc.: Myastheni
 a Gravis – Evolving Therapeutic Landscape
UID:dad4ddaf-5cf9-43c7-828b-ea8ad920c0fc
END:VEVENT
END:VCALENDAR
