BEGIN:VCALENDAR
PRODID:-//github.com/rianjs/ical.net//NONSGML ical.net 4.0//EN
VERSION:2.0
BEGIN:VTIMEZONE
TZID:Pacific Standard Time
X-LIC-LOCATION:America/Los_Angeles
BEGIN:STANDARD
DTSTART:20241103T020000
RRULE:FREQ=YEARLY;BYDAY=1SU;BYMONTH=11
TZNAME:PST
TZOFFSETFROM:-0700
TZOFFSETTO:-0800
END:STANDARD
BEGIN:DAYLIGHT
DTSTART:20250309T020000
RRULE:FREQ=YEARLY;BYDAY=2SU;BYMONTH=3
TZNAME:PDT
TZOFFSETFROM:-0800
TZOFFSETTO:-0700
END:DAYLIGHT
END:VTIMEZONE
BEGIN:VEVENT
DESCRIPTION:2025 Annual Meeting by the American Academy of Neurology\n\nTi
 tle: Industry Therapeutic Update from Annexon Biosciences: Advancing GBS 
 Care: Latest Insights into the role of classical complement pathway in GB
 S\n\nAccess URL: https://www.aan.com/MSA/Public/Events/GetEventURL/18308\
 n\nLearn More About This Event: https://www.aan.com/MSA/Public/Events/Det
 ails/18308
DTEND;TZID=Pacific Standard Time:20250408T200000
DTSTAMP:20260421T082427Z
DTSTART;TZID=Pacific Standard Time:20250408T180000
LOCATION:https://www.aan.com/MSA/Public/Events/GetEventURL/18308
SEQUENCE:0
SUMMARY:AAN: Industry Therapeutic Update from Annexon Biosciences: Advanci
 ng GBS Care: Latest Insights into the role of classical complement pathwa
 y in GBS
UID:b2f14265-470d-4c29-a62d-ba52b28a33ed
END:VEVENT
END:VCALENDAR
