BEGIN:VCALENDAR
PRODID:-//github.com/rianjs/ical.net//NONSGML ical.net 4.0//EN
VERSION:2.0
BEGIN:VTIMEZONE
TZID:Pacific Standard Time
X-LIC-LOCATION:America/Los_Angeles
BEGIN:STANDARD
DTSTART:20241103T020000
RRULE:FREQ=YEARLY;BYDAY=1SU;BYMONTH=11
TZNAME:PST
TZOFFSETFROM:-0700
TZOFFSETTO:-0800
END:STANDARD
BEGIN:DAYLIGHT
DTSTART:20250309T020000
RRULE:FREQ=YEARLY;BYDAY=2SU;BYMONTH=3
TZNAME:PDT
TZOFFSETFROM:-0800
TZOFFSETTO:-0700
END:DAYLIGHT
END:VTIMEZONE
BEGIN:VEVENT
DESCRIPTION:2025 Annual Meeting by the American Academy of Neurology\n\nTi
 tle: University of Virginia Neurology Alumni & Friends Gathering\n\nDescr
 iption: Annual Alumni Gathering for the University of Virginia Neurology 
 Department for current and former residents\, fellow\, faculty and friend
 s. \n\nLearn More About This Event: https://www.aan.com/MSA/Public/Events
 /Details/18313
DTEND;TZID=Pacific Standard Time:20250408T220000
DTSTAMP:20260421T081439Z
DTSTART;TZID=Pacific Standard Time:20250408T190000
LOCATION:https://www.aan.com/MSA/Public/Events/GetEventURL/18313
SEQUENCE:0
SUMMARY:AAN: University of Virginia Neurology Alumni & Friends Gathering
UID:d1c2eb57-2585-41ae-ab7f-71c98d768210
END:VEVENT
END:VCALENDAR
