BEGIN:VCALENDAR
PRODID:-//github.com/rianjs/ical.net//NONSGML ical.net 4.0//EN
VERSION:2.0
BEGIN:VTIMEZONE
TZID:Pacific Standard Time
X-LIC-LOCATION:America/Los_Angeles
BEGIN:STANDARD
DTSTART:20241103T020000
RRULE:FREQ=YEARLY;BYDAY=1SU;BYMONTH=11
TZNAME:PST
TZOFFSETFROM:-0700
TZOFFSETTO:-0800
END:STANDARD
BEGIN:DAYLIGHT
DTSTART:20250309T020000
RRULE:FREQ=YEARLY;BYDAY=2SU;BYMONTH=3
TZNAME:PDT
TZOFFSETFROM:-0800
TZOFFSETTO:-0700
END:DAYLIGHT
END:VTIMEZONE
BEGIN:VEVENT
DESCRIPTION:2025 Annual Meeting by the American Academy of Neurology\n\nTi
 tle: AAN Advocacy Bingo (Practice and Policy Hub)\n\nAccess URL: https://
 www.aan.com/MSA/Public/Events/GetEventURL/18333\n\nLearn More About This 
 Event: https://www.aan.com/MSA/Public/Events/Details/18333
DTEND;TZID=Pacific Standard Time:20250407T140000
DTSTAMP:20260419T125421Z
DTSTART;TZID=Pacific Standard Time:20250407T130000
LOCATION:https://www.aan.com/MSA/Public/Events/GetEventURL/18333
SEQUENCE:0
SUMMARY:AAN: AAN Advocacy Bingo (Practice and Policy Hub)
UID:0ba8a5d0-afdf-404b-8a4b-32a0a59285de
END:VEVENT
END:VCALENDAR
