BEGIN:VCALENDAR
PRODID:-//github.com/rianjs/ical.net//NONSGML ical.net 4.0//EN
VERSION:2.0
BEGIN:VTIMEZONE
TZID:Pacific Standard Time
X-LIC-LOCATION:America/Los_Angeles
BEGIN:STANDARD
DTSTART:20241103T020000
RRULE:FREQ=YEARLY;BYDAY=1SU;BYMONTH=11
TZNAME:PST
TZOFFSETFROM:-0700
TZOFFSETTO:-0800
END:STANDARD
BEGIN:DAYLIGHT
DTSTART:20250309T020000
RRULE:FREQ=YEARLY;BYDAY=2SU;BYMONTH=3
TZNAME:PDT
TZOFFSETFROM:-0800
TZOFFSETTO:-0700
END:DAYLIGHT
END:VTIMEZONE
BEGIN:VEVENT
DESCRIPTION:2025 Annual Meeting by the American Academy of Neurology\n\nTi
 tle: Demystifying Informatics: A Quick Guide to Confident Conversations (
 Practice and Policy Hub)\n\nAccess URL: https://www.aan.com/MSA/Public/Ev
 ents/GetEventURL/18342\n\nLearn More About This Event: https://www.aan.co
 m/MSA/Public/Events/Details/18342
DTEND;TZID=Pacific Standard Time:20250408T170000
DTSTAMP:20260421T081117Z
DTSTART;TZID=Pacific Standard Time:20250408T160000
LOCATION:https://www.aan.com/MSA/Public/Events/GetEventURL/18342
SEQUENCE:0
SUMMARY:AAN: Demystifying Informatics: A Quick Guide to Confident Conversa
 tions (Practice and Policy Hub)
UID:d9efca77-6a56-4d0a-9dc0-76459d45c4a9
END:VEVENT
END:VCALENDAR
