BEGIN:VCALENDAR
PRODID:-//github.com/rianjs/ical.net//NONSGML ical.net 4.0//EN
VERSION:2.0
BEGIN:VTIMEZONE
TZID:Pacific Standard Time
X-LIC-LOCATION:America/Los_Angeles
BEGIN:STANDARD
DTSTART:20241103T020000
RRULE:FREQ=YEARLY;BYDAY=1SU;BYMONTH=11
TZNAME:PST
TZOFFSETFROM:-0700
TZOFFSETTO:-0800
END:STANDARD
BEGIN:DAYLIGHT
DTSTART:20250309T020000
RRULE:FREQ=YEARLY;BYDAY=2SU;BYMONTH=3
TZNAME:PDT
TZOFFSETFROM:-0800
TZOFFSETTO:-0700
END:DAYLIGHT
END:VTIMEZONE
BEGIN:VEVENT
DESCRIPTION:2025 Annual Meeting by the American Academy of Neurology\n\nTi
 tle: ENLIGHTEN Fellowship Program (Research Hub)\n\nAccess URL: https://w
 ww.aan.com/MSA/Public/Events/GetEventURL/18353\n\nLearn More About This E
 vent: https://www.aan.com/MSA/Public/Events/Details/18353
DTEND;TZID=Pacific Standard Time:20250406T163000
DTSTAMP:20260421T082621Z
DTSTART;TZID=Pacific Standard Time:20250406T160000
LOCATION:https://www.aan.com/MSA/Public/Events/GetEventURL/18353
SEQUENCE:0
SUMMARY:AAN: ENLIGHTEN Fellowship Program (Research Hub)
UID:0d039617-7773-4741-9620-136a3493fbbf
END:VEVENT
END:VCALENDAR
