BEGIN:VCALENDAR
PRODID:-//github.com/rianjs/ical.net//NONSGML ical.net 4.0//EN
VERSION:2.0
BEGIN:VTIMEZONE
TZID:Pacific Standard Time
X-LIC-LOCATION:America/Los_Angeles
BEGIN:STANDARD
DTSTART:20241103T020000
RRULE:FREQ=YEARLY;BYDAY=1SU;BYMONTH=11
TZNAME:PST
TZOFFSETFROM:-0700
TZOFFSETTO:-0800
END:STANDARD
BEGIN:DAYLIGHT
DTSTART:20250309T020000
RRULE:FREQ=YEARLY;BYDAY=2SU;BYMONTH=3
TZNAME:PDT
TZOFFSETFROM:-0800
TZOFFSETTO:-0700
END:DAYLIGHT
END:VTIMEZONE
BEGIN:VEVENT
DESCRIPTION:2025 Annual Meeting by the American Academy of Neurology\n\nTi
 tle: The Parkinson’s Foundation and PD GENEration Networking Reception \n
 \nDescription: Join the Parkinson’s Foundation to learn how you can help 
 shape the future of Parkinson’s disease (PD) care and research. Learn abo
 ut the Foundation's care resources\, about PD GENEration\, the Foundation
 ’s landmark global genetics study\, and explore ways to get involved with
  the Parkinson’s Foundation care and clinical research programs. We espec
 ially look forward to community neurologists joining us as they represent
  the majority of providers who care for the one million people with PD in
  the U.S. \n\nLearn More About This Event: https://www.aan.com/MSA/Public
 /Events/Details/18354
DTEND;TZID=Pacific Standard Time:20250407T184500
DTSTAMP:20260421T081336Z
DTSTART;TZID=Pacific Standard Time:20250407T173000
LOCATION:https://www.aan.com/MSA/Public/Events/GetEventURL/18354
SEQUENCE:0
SUMMARY:AAN: The Parkinson’s Foundation and PD GENEration Networking Recep
 tion
UID:6cf220e7-b079-404a-a538-2c35f973b6fb
END:VEVENT
END:VCALENDAR
