BEGIN:VCALENDAR
PRODID:-//github.com/rianjs/ical.net//NONSGML ical.net 4.0//EN
VERSION:2.0
BEGIN:VTIMEZONE
TZID:Pacific Standard Time
X-LIC-LOCATION:America/Los_Angeles
BEGIN:STANDARD
DTSTART:20241103T020000
RRULE:FREQ=YEARLY;BYDAY=1SU;BYMONTH=11
TZNAME:PST
TZOFFSETFROM:-0700
TZOFFSETTO:-0800
END:STANDARD
BEGIN:DAYLIGHT
DTSTART:20250309T020000
RRULE:FREQ=YEARLY;BYDAY=2SU;BYMONTH=3
TZNAME:PDT
TZOFFSETFROM:-0800
TZOFFSETTO:-0700
END:DAYLIGHT
END:VTIMEZONE
BEGIN:VEVENT
DESCRIPTION:2025 Annual Meeting by the American Academy of Neurology\n\nTi
 tle: Conversation Corner: How to Create Inclusivity as a Roadmap for Exce
 llence in Neurology (Academic Hub)\n\nAccess URL: https://www.aan.com/MSA
 /Public/Events/GetEventURL/18375\n\nLearn More About This Event: https://
 www.aan.com/MSA/Public/Events/Details/18375
DTEND;TZID=Pacific Standard Time:20250405T163000
DTSTAMP:20260421T082632Z
DTSTART;TZID=Pacific Standard Time:20250405T160000
LOCATION:https://www.aan.com/MSA/Public/Events/GetEventURL/18375
SEQUENCE:0
SUMMARY:AAN: Conversation Corner: How to Create Inclusivity as a Roadmap f
 or Excellence in Neurology (Academic Hub)
UID:bd01221a-e86a-4eda-b16a-720e6aa522b0
END:VEVENT
END:VCALENDAR
