BEGIN:VCALENDAR
PRODID:-//github.com/rianjs/ical.net//NONSGML ical.net 4.0//EN
VERSION:2.0
BEGIN:VTIMEZONE
TZID:Pacific Standard Time
X-LIC-LOCATION:America/Los_Angeles
BEGIN:STANDARD
DTSTART:20241103T020000
RRULE:FREQ=YEARLY;BYDAY=1SU;BYMONTH=11
TZNAME:PST
TZOFFSETFROM:-0700
TZOFFSETTO:-0800
END:STANDARD
BEGIN:DAYLIGHT
DTSTART:20250309T020000
RRULE:FREQ=YEARLY;BYDAY=2SU;BYMONTH=3
TZNAME:PDT
TZOFFSETFROM:-0800
TZOFFSETTO:-0700
END:DAYLIGHT
END:VTIMEZONE
BEGIN:VEVENT
DESCRIPTION:2025 Annual Meeting by the American Academy of Neurology\n\nTi
 tle: Academic Neurology: What Is the AAN Doing to Help Academic Neurology
 ? (Academic Hub)\n\nAccess URL: https://www.aan.com/MSA/Public/Events/Get
 EventURL/18381\n\nLearn More About This Event: https://www.aan.com/MSA/Pu
 blic/Events/Details/18381
DTEND;TZID=Pacific Standard Time:20250407T114500
DTSTAMP:20260421T081152Z
DTSTART;TZID=Pacific Standard Time:20250407T110000
LOCATION:https://www.aan.com/MSA/Public/Events/GetEventURL/18381
SEQUENCE:0
SUMMARY:AAN: Academic Neurology: What Is the AAN Doing to Help Academic Ne
 urology? (Academic Hub)
UID:0d01a13f-7ee9-45be-be06-04fdd93a92b1
END:VEVENT
END:VCALENDAR
