BEGIN:VCALENDAR
PRODID:-//github.com/rianjs/ical.net//NONSGML ical.net 4.0//EN
VERSION:2.0
BEGIN:VTIMEZONE
TZID:Pacific Standard Time
X-LIC-LOCATION:America/Los_Angeles
BEGIN:STANDARD
DTSTART:20241103T020000
RRULE:FREQ=YEARLY;BYDAY=1SU;BYMONTH=11
TZNAME:PST
TZOFFSETFROM:-0700
TZOFFSETTO:-0800
END:STANDARD
BEGIN:DAYLIGHT
DTSTART:20250309T020000
RRULE:FREQ=YEARLY;BYDAY=2SU;BYMONTH=3
TZNAME:PDT
TZOFFSETFROM:-0800
TZOFFSETTO:-0700
END:DAYLIGHT
END:VTIMEZONE
BEGIN:VEVENT
DESCRIPTION:2025 Annual Meeting by the American Academy of Neurology\n\nTi
 tle: Unlock Potential: Master Compensation and Productivity Benchmarking 
 (Academic Hub)\n\nAccess URL: https://www.aan.com/MSA/Public/Events/GetEv
 entURL/18388\n\nLearn More About This Event: https://www.aan.com/MSA/Publ
 ic/Events/Details/18388
DTEND;TZID=Pacific Standard Time:20250408T133000
DTSTAMP:20260421T082805Z
DTSTART;TZID=Pacific Standard Time:20250408T124500
LOCATION:https://www.aan.com/MSA/Public/Events/GetEventURL/18388
SEQUENCE:0
SUMMARY:AAN: Unlock Potential: Master Compensation and Productivity Benchm
 arking (Academic Hub)
UID:67d93503-8c10-48b1-91df-5161c457721b
END:VEVENT
END:VCALENDAR
