BEGIN:VCALENDAR
PRODID:-//github.com/rianjs/ical.net//NONSGML ical.net 4.0//EN
VERSION:2.0
BEGIN:VTIMEZONE
TZID:Pacific Standard Time
X-LIC-LOCATION:America/Los_Angeles
BEGIN:STANDARD
DTSTART:20241103T020000
RRULE:FREQ=YEARLY;BYDAY=1SU;BYMONTH=11
TZNAME:PST
TZOFFSETFROM:-0700
TZOFFSETTO:-0800
END:STANDARD
BEGIN:DAYLIGHT
DTSTART:20250309T020000
RRULE:FREQ=YEARLY;BYDAY=2SU;BYMONTH=3
TZNAME:PDT
TZOFFSETFROM:-0800
TZOFFSETTO:-0700
END:DAYLIGHT
END:VTIMEZONE
BEGIN:VEVENT
DESCRIPTION:2025 Annual Meeting by the American Academy of Neurology\n\nTi
 tle: Thriving in the Ivory Tower: How to Improve Neurologist Well-being i
 n Academia (Academic Hub)\n\nAccess URL: https://www.aan.com/MSA/Public/E
 vents/GetEventURL/18393\n\nLearn More About This Event: https://www.aan.c
 om/MSA/Public/Events/Details/18393
DTEND;TZID=Pacific Standard Time:20250409T121500
DTSTAMP:20260421T081111Z
DTSTART;TZID=Pacific Standard Time:20250409T113000
LOCATION:https://www.aan.com/MSA/Public/Events/GetEventURL/18393
SEQUENCE:0
SUMMARY:AAN: Thriving in the Ivory Tower: How to Improve Neurologist Well-
 being in Academia (Academic Hub)
UID:ef7e2209-61a1-4a5e-87e6-2b683455f9b8
END:VEVENT
END:VCALENDAR
