BEGIN:VCALENDAR
PRODID:-//github.com/rianjs/ical.net//NONSGML ical.net 4.0//EN
VERSION:2.0
BEGIN:VTIMEZONE
TZID:Pacific Standard Time
X-LIC-LOCATION:America/Los_Angeles
BEGIN:STANDARD
DTSTART:20241103T020000
RRULE:FREQ=YEARLY;BYDAY=1SU;BYMONTH=11
TZNAME:PST
TZOFFSETFROM:-0700
TZOFFSETTO:-0800
END:STANDARD
BEGIN:DAYLIGHT
DTSTART:20250309T020000
RRULE:FREQ=YEARLY;BYDAY=2SU;BYMONTH=3
TZNAME:PDT
TZOFFSETFROM:-0800
TZOFFSETTO:-0700
END:DAYLIGHT
END:VTIMEZONE
BEGIN:VEVENT
DESCRIPTION:2025 Annual Meeting by the American Academy of Neurology\n\nTi
 tle: Recruitment Strategies from Diverse Departments (Academic Hub)\n\nAc
 cess URL: https://www.aan.com/MSA/Public/Events/GetEventURL/18394\n\nLear
 n More About This Event: https://www.aan.com/MSA/Public/Events/Details/18
 394
DTEND;TZID=Pacific Standard Time:20250409T133000
DTSTAMP:20260421T081121Z
DTSTART;TZID=Pacific Standard Time:20250409T124500
LOCATION:https://www.aan.com/MSA/Public/Events/GetEventURL/18394
SEQUENCE:0
SUMMARY:AAN: Recruitment Strategies from Diverse Departments (Academic Hub)
UID:3e4fa814-2db0-4b96-a62b-31ec574d0e78
END:VEVENT
END:VCALENDAR
