BEGIN:VCALENDAR
PRODID:-//github.com/rianjs/ical.net//NONSGML ical.net 4.0//EN
VERSION:2.0
BEGIN:VTIMEZONE
TZID:Pacific Standard Time
X-LIC-LOCATION:America/Los_Angeles
BEGIN:STANDARD
DTSTART:20241103T020000
RRULE:FREQ=YEARLY;BYDAY=1SU;BYMONTH=11
TZNAME:PST
TZOFFSETFROM:-0700
TZOFFSETTO:-0800
END:STANDARD
BEGIN:DAYLIGHT
DTSTART:20250309T020000
RRULE:FREQ=YEARLY;BYDAY=2SU;BYMONTH=3
TZNAME:PDT
TZOFFSETFROM:-0800
TZOFFSETTO:-0700
END:DAYLIGHT
END:VTIMEZONE
BEGIN:VEVENT
DESCRIPTION:2025 Annual Meeting by the American Academy of Neurology\n\nTi
 tle: Conversation Corner: Filling Your Cup When Your Day Job is Not Enoug
 h (Academic Hub)\n\nAccess URL: https://www.aan.com/MSA/Public/Events/Get
 EventURL/18398\n\nLearn More About This Event: https://www.aan.com/MSA/Pu
 blic/Events/Details/18398
DTEND;TZID=Pacific Standard Time:20250405T151500
DTSTAMP:20260419T124404Z
DTSTART;TZID=Pacific Standard Time:20250405T144500
LOCATION:https://www.aan.com/MSA/Public/Events/GetEventURL/18398
SEQUENCE:0
SUMMARY:AAN: Conversation Corner: Filling Your Cup When Your Day Job is No
 t Enough (Academic Hub)
UID:d852b980-d14c-42c3-98cc-2ea3f652c3a2
END:VEVENT
END:VCALENDAR
