BEGIN:VCALENDAR
PRODID:-//github.com/rianjs/ical.net//NONSGML ical.net 4.0//EN
VERSION:2.0
BEGIN:VTIMEZONE
TZID:Pacific Standard Time
X-LIC-LOCATION:America/Los_Angeles
BEGIN:STANDARD
DTSTART:20241103T020000
RRULE:FREQ=YEARLY;BYDAY=1SU;BYMONTH=11
TZNAME:PST
TZOFFSETFROM:-0700
TZOFFSETTO:-0800
END:STANDARD
BEGIN:DAYLIGHT
DTSTART:20250309T020000
RRULE:FREQ=YEARLY;BYDAY=2SU;BYMONTH=3
TZNAME:PDT
TZOFFSETFROM:-0800
TZOFFSETTO:-0700
END:DAYLIGHT
END:VTIMEZONE
BEGIN:VEVENT
DESCRIPTION:2025 Annual Meeting by the American Academy of Neurology\n\nTi
 tle: Conversation Corner: Launching a Pioneering Neuroscience Service Lin
 e: Securing Support and Strategic Growth (Academic Hub)\n\nAccess URL: ht
 tps://www.aan.com/MSA/Public/Events/GetEventURL/18401\n\nLearn More About
  This Event: https://www.aan.com/MSA/Public/Events/Details/18401
DTEND;TZID=Pacific Standard Time:20250406T143000
DTSTAMP:20260421T081111Z
DTSTART;TZID=Pacific Standard Time:20250406T140000
LOCATION:https://www.aan.com/MSA/Public/Events/GetEventURL/18401
SEQUENCE:0
SUMMARY:AAN: Conversation Corner: Launching a Pioneering Neuroscience Serv
 ice Line: Securing Support and Strategic Growth (Academic Hub)
UID:67bfdd2b-5f57-4426-9b88-fd9dee98d6ae
END:VEVENT
END:VCALENDAR
