BEGIN:VCALENDAR
PRODID:-//github.com/rianjs/ical.net//NONSGML ical.net 4.0//EN
VERSION:2.0
BEGIN:VTIMEZONE
TZID:Pacific Standard Time
X-LIC-LOCATION:America/Los_Angeles
BEGIN:STANDARD
DTSTART:20241103T020000
RRULE:FREQ=YEARLY;BYDAY=1SU;BYMONTH=11
TZNAME:PST
TZOFFSETFROM:-0700
TZOFFSETTO:-0800
END:STANDARD
BEGIN:DAYLIGHT
DTSTART:20250309T020000
RRULE:FREQ=YEARLY;BYDAY=2SU;BYMONTH=3
TZNAME:PDT
TZOFFSETFROM:-0800
TZOFFSETTO:-0700
END:DAYLIGHT
END:VTIMEZONE
BEGIN:VEVENT
DESCRIPTION:2025 Annual Meeting by the American Academy of Neurology\n\nTi
 tle: Conversation Corner: Mentoring All Around (Academic Hub)\n\nAccess U
 RL: https://www.aan.com/MSA/Public/Events/GetEventURL/18402\n\nLearn More
  About This Event: https://www.aan.com/MSA/Public/Events/Details/18402
DTEND;TZID=Pacific Standard Time:20250406T154500
DTSTAMP:20260421T081319Z
DTSTART;TZID=Pacific Standard Time:20250406T151500
LOCATION:https://www.aan.com/MSA/Public/Events/GetEventURL/18402
SEQUENCE:0
SUMMARY:AAN: Conversation Corner: Mentoring All Around (Academic Hub)
UID:879ef95b-d08b-4108-9ca7-1d68b3d59f28
END:VEVENT
END:VCALENDAR
