BEGIN:VCALENDAR
PRODID:-//github.com/rianjs/ical.net//NONSGML ical.net 4.0//EN
VERSION:2.0
BEGIN:VTIMEZONE
TZID:Pacific Standard Time
X-LIC-LOCATION:America/Los_Angeles
BEGIN:STANDARD
DTSTART:20241103T020000
RRULE:FREQ=YEARLY;BYDAY=1SU;BYMONTH=11
TZNAME:PST
TZOFFSETFROM:-0700
TZOFFSETTO:-0800
END:STANDARD
BEGIN:DAYLIGHT
DTSTART:20250309T020000
RRULE:FREQ=YEARLY;BYDAY=2SU;BYMONTH=3
TZNAME:PDT
TZOFFSETFROM:-0800
TZOFFSETTO:-0700
END:DAYLIGHT
END:VTIMEZONE
BEGIN:VEVENT
DESCRIPTION:2025 Annual Meeting by the American Academy of Neurology\n\nTi
 tle: Conversation Corner: Trifecta for Small Neurology Departments: Clini
 cal Care\, Education\, & Research (Academic Hub)\n\nAccess URL: https://w
 ww.aan.com/MSA/Public/Events/GetEventURL/18405\n\nLearn More About This E
 vent: https://www.aan.com/MSA/Public/Events/Details/18405
DTEND;TZID=Pacific Standard Time:20250407T140000
DTSTAMP:20260421T081116Z
DTSTART;TZID=Pacific Standard Time:20250407T130000
LOCATION:https://www.aan.com/MSA/Public/Events/GetEventURL/18405
SEQUENCE:0
SUMMARY:AAN: Conversation Corner: Trifecta for Small Neurology Departments
 : Clinical Care\, Education\, & Research (Academic Hub)
UID:3a21adb5-6a8b-4128-9a0d-7f1536dcd702
END:VEVENT
END:VCALENDAR
