BEGIN:VCALENDAR
PRODID:-//github.com/rianjs/ical.net//NONSGML ical.net 4.0//EN
VERSION:2.0
BEGIN:VTIMEZONE
TZID:Pacific Standard Time
X-LIC-LOCATION:America/Los_Angeles
BEGIN:STANDARD
DTSTART:20241103T020000
RRULE:FREQ=YEARLY;BYDAY=1SU;BYMONTH=11
TZNAME:PST
TZOFFSETFROM:-0700
TZOFFSETTO:-0800
END:STANDARD
BEGIN:DAYLIGHT
DTSTART:20250309T020000
RRULE:FREQ=YEARLY;BYDAY=2SU;BYMONTH=3
TZNAME:PDT
TZOFFSETFROM:-0800
TZOFFSETTO:-0700
END:DAYLIGHT
END:VTIMEZONE
BEGIN:VEVENT
DESCRIPTION:2025 Annual Meeting by the American Academy of Neurology\n\nTi
 tle: Advances in Stroke Imaging and Biomarkers\n\nAccess URL: https://www
 .aan.com/MSA/Public/Events/GetEventURL/18417\n\nLearn More About This Eve
 nt: https://www.aan.com/MSA/Public/Events/Details/18417
DTEND;TZID=Pacific Standard Time:20250406T150000
DTSTAMP:20260421T081121Z
DTSTART;TZID=Pacific Standard Time:20250406T130000
LOCATION:https://www.aan.com/MSA/Public/Events/GetEventURL/18417
SEQUENCE:0
SUMMARY:AAN: Advances in Stroke Imaging and Biomarkers
UID:bf068a16-207c-46ad-af21-9cc298208f77
END:VEVENT
END:VCALENDAR
