BEGIN:VCALENDAR
PRODID:-//github.com/rianjs/ical.net//NONSGML ical.net 4.0//EN
VERSION:2.0
BEGIN:VTIMEZONE
TZID:Pacific Standard Time
X-LIC-LOCATION:America/Los_Angeles
BEGIN:STANDARD
DTSTART:20241103T020000
RRULE:FREQ=YEARLY;BYDAY=1SU;BYMONTH=11
TZNAME:PST
TZOFFSETFROM:-0700
TZOFFSETTO:-0800
END:STANDARD
BEGIN:DAYLIGHT
DTSTART:20250309T020000
RRULE:FREQ=YEARLY;BYDAY=2SU;BYMONTH=3
TZNAME:PDT
TZOFFSETFROM:-0800
TZOFFSETTO:-0700
END:DAYLIGHT
END:VTIMEZONE
BEGIN:VEVENT
DESCRIPTION:2025 Annual Meeting by the American Academy of Neurology\n\nTi
 tle: Practice\, Policy\, and Ethics\n\nAccess URL: https://www.aan.com/MS
 A/Public/Events/GetEventURL/18427\n\nLearn More About This Event: https:/
 /www.aan.com/MSA/Public/Events/Details/18427
DTEND;TZID=Pacific Standard Time:20250407T121500
DTSTAMP:20260421T081112Z
DTSTART;TZID=Pacific Standard Time:20250407T111500
LOCATION:https://www.aan.com/MSA/Public/Events/GetEventURL/18427
SEQUENCE:0
SUMMARY:AAN: Practice\, Policy\, and Ethics
UID:5c0f8ebf-d7d1-4d11-99aa-4391c747c21e
END:VEVENT
END:VCALENDAR
