BEGIN:VCALENDAR
PRODID:-//github.com/rianjs/ical.net//NONSGML ical.net 4.0//EN
VERSION:2.0
BEGIN:VTIMEZONE
TZID:Pacific Standard Time
X-LIC-LOCATION:America/Los_Angeles
BEGIN:STANDARD
DTSTART:20241103T020000
RRULE:FREQ=YEARLY;BYDAY=1SU;BYMONTH=11
TZNAME:PST
TZOFFSETFROM:-0700
TZOFFSETTO:-0800
END:STANDARD
BEGIN:DAYLIGHT
DTSTART:20250309T020000
RRULE:FREQ=YEARLY;BYDAY=2SU;BYMONTH=3
TZNAME:PDT
TZOFFSETFROM:-0800
TZOFFSETTO:-0700
END:DAYLIGHT
END:VTIMEZONE
BEGIN:VEVENT
DESCRIPTION:2025 Annual Meeting by the American Academy of Neurology\n\nTi
 tle: Emerging Stroke Therapies and Risk Stratification\n\nAccess URL: htt
 ps://www.aan.com/MSA/Public/Events/GetEventURL/18441\n\nLearn More About 
 This Event: https://www.aan.com/MSA/Public/Events/Details/18441
DTEND;TZID=Pacific Standard Time:20250408T150000
DTSTAMP:20260421T082427Z
DTSTART;TZID=Pacific Standard Time:20250408T130000
LOCATION:https://www.aan.com/MSA/Public/Events/GetEventURL/18441
SEQUENCE:0
SUMMARY:AAN: Emerging Stroke Therapies and Risk Stratification
UID:1a003be9-8b83-4fc2-a3de-3368d1b4efbd
END:VEVENT
END:VCALENDAR
