BEGIN:VCALENDAR
PRODID:-//github.com/rianjs/ical.net//NONSGML ical.net 4.0//EN
VERSION:2.0
BEGIN:VTIMEZONE
TZID:Pacific Standard Time
X-LIC-LOCATION:America/Los_Angeles
BEGIN:STANDARD
DTSTART:20241103T020000
RRULE:FREQ=YEARLY;BYDAY=1SU;BYMONTH=11
TZNAME:PST
TZOFFSETFROM:-0700
TZOFFSETTO:-0800
END:STANDARD
BEGIN:DAYLIGHT
DTSTART:20250309T020000
RRULE:FREQ=YEARLY;BYDAY=2SU;BYMONTH=3
TZNAME:PDT
TZOFFSETFROM:-0800
TZOFFSETTO:-0700
END:DAYLIGHT
END:VTIMEZONE
BEGIN:VEVENT
DESCRIPTION:2025 Annual Meeting by the American Academy of Neurology\n\nTi
 tle: University of Cincinnati Department of Neurology Alumni and Friends 
 Reception\n\nDescription: A University of Cincinnati Department of Neurol
 ogy Alumni and Friends Reception for current & former faculty\, current &
  former residents and fellows\, friends and colleagues to enjoy social ti
 me to connect and reconnect.\n\nLearn More About This Event: https://www.
 aan.com/MSA/Public/Events/Details/18470
DTEND;TZID=Pacific Standard Time:20250408T200000
DTSTAMP:20260421T081111Z
DTSTART;TZID=Pacific Standard Time:20250408T180000
LOCATION:https://www.aan.com/MSA/Public/Events/GetEventURL/18470
SEQUENCE:0
SUMMARY:AAN: University of Cincinnati Department of Neurology Alumni and F
 riends Reception
UID:cc5dc370-c928-4399-8ff9-37cdd6487aa7
END:VEVENT
END:VCALENDAR
