BEGIN:VCALENDAR
PRODID:-//github.com/rianjs/ical.net//NONSGML ical.net 4.0//EN
VERSION:2.0
BEGIN:VTIMEZONE
TZID:Pacific Standard Time
X-LIC-LOCATION:America/Los_Angeles
BEGIN:STANDARD
DTSTART:20241103T020000
RRULE:FREQ=YEARLY;BYDAY=1SU;BYMONTH=11
TZNAME:PST
TZOFFSETFROM:-0700
TZOFFSETTO:-0800
END:STANDARD
BEGIN:DAYLIGHT
DTSTART:20250309T020000
RRULE:FREQ=YEARLY;BYDAY=2SU;BYMONTH=3
TZNAME:PDT
TZOFFSETFROM:-0800
TZOFFSETTO:-0700
END:DAYLIGHT
END:VTIMEZONE
BEGIN:VEVENT
DESCRIPTION:2025 Annual Meeting by the American Academy of Neurology\n\nTi
 tle: The Power of Storytelling: A Skill to Inspire and Influence (Leaders
 hip University)\n\nAccess URL: https://www.aan.com/MSA/Public/Events/GetE
 ventURL/18504\n\nLearn More About This Event: https://www.aan.com/MSA/Pub
 lic/Events/Details/18504
DTEND;TZID=Pacific Standard Time:20250406T140000
DTSTAMP:20260421T082730Z
DTSTART;TZID=Pacific Standard Time:20250406T130000
LOCATION:https://www.aan.com/MSA/Public/Events/GetEventURL/18504
SEQUENCE:0
SUMMARY:AAN: The Power of Storytelling: A Skill to Inspire and Influence (
 Leadership University)
UID:a60ffcec-6833-45e5-a5a1-77a475248a89
END:VEVENT
END:VCALENDAR
