BEGIN:VCALENDAR
PRODID:-//github.com/rianjs/ical.net//NONSGML ical.net 4.0//EN
VERSION:2.0
BEGIN:VTIMEZONE
TZID:Pacific Standard Time
X-LIC-LOCATION:America/Los_Angeles
BEGIN:STANDARD
DTSTART:20241103T020000
RRULE:FREQ=YEARLY;BYDAY=1SU;BYMONTH=11
TZNAME:PST
TZOFFSETFROM:-0700
TZOFFSETTO:-0800
END:STANDARD
BEGIN:DAYLIGHT
DTSTART:20250309T020000
RRULE:FREQ=YEARLY;BYDAY=2SU;BYMONTH=3
TZNAME:PDT
TZOFFSETFROM:-0800
TZOFFSETTO:-0700
END:DAYLIGHT
END:VTIMEZONE
BEGIN:VEVENT
DESCRIPTION:2025 Annual Meeting by the American Academy of Neurology\n\nTi
 tle: 2025 Annual Meeting Wayne State University Neurology Alumni Receptio
 n\n\nDescription: We invite former and current Wayne State University Neu
 rology faculty\, residents and students to join us at an annual gathering
  for an opportunity to catch up and connect. Please RSVP if you plan to a
 ttend at the link below and complete the RSVP form. \nhttps://forms.offic
 e.com/r/bVdsweVcVX\n \n\nLearn More About This Event: https://www.aan.com
 /MSA/Public/Events/Details/18566
DTEND;TZID=Pacific Standard Time:20250407T210000
DTSTAMP:20260421T081122Z
DTSTART;TZID=Pacific Standard Time:20250407T190000
LOCATION:https://www.aan.com/MSA/Public/Events/GetEventURL/18566
SEQUENCE:0
SUMMARY:AAN: 2025 Annual Meeting Wayne State University Neurology Alumni R
 eception
UID:ebf7742a-6910-4343-a8ce-905f5d6ef5cb
END:VEVENT
END:VCALENDAR
