BEGIN:VCALENDAR
PRODID:-//github.com/rianjs/ical.net//NONSGML ical.net 4.0//EN
VERSION:2.0
BEGIN:VTIMEZONE
TZID:Pacific Standard Time
X-LIC-LOCATION:America/Los_Angeles
BEGIN:STANDARD
DTSTART:20241103T020000
RRULE:FREQ=YEARLY;BYDAY=1SU;BYMONTH=11
TZNAME:PST
TZOFFSETFROM:-0700
TZOFFSETTO:-0800
END:STANDARD
BEGIN:DAYLIGHT
DTSTART:20250309T020000
RRULE:FREQ=YEARLY;BYDAY=2SU;BYMONTH=3
TZNAME:PDT
TZOFFSETFROM:-0800
TZOFFSETTO:-0700
END:DAYLIGHT
END:VTIMEZONE
BEGIN:VEVENT
DESCRIPTION:2025 Annual Meeting by the American Academy of Neurology\n\nTi
 tle: UPMC/ PITT Alumni Reception\n\nDescription: Connect with the esteeme
 d University of Pittsburgh Medical Center (UPMC) Department of Neurology 
 and University of Pittsburgh\, School of Medicine at the AAN Annual Meeti
 ng in Denver. Join us for an exclusive networking event featuring cocktai
 ls and hors d’oeuvres. Meet Dr. Page Pennell\, the department chair\, and
  gain insight into her visionary plans to enhance diagnostic and treatmen
 t standards in neurology across UPMC’s extensive territories in Pennsylva
 nia\, Ohio\, Maryland\, and New York.\n\nLearn More About This Event: htt
 ps://www.aan.com/MSA/Public/Events/Details/18612
DTEND;TZID=Pacific Standard Time:20250408T210000
DTSTAMP:20260421T081329Z
DTSTART;TZID=Pacific Standard Time:20250408T190000
LOCATION:https://www.aan.com/MSA/Public/Events/GetEventURL/18612
SEQUENCE:0
SUMMARY:AAN: UPMC/ PITT Alumni Reception
UID:9615ac0d-11a5-4502-8c3b-7f48cd88a749
END:VEVENT
END:VCALENDAR
