BEGIN:VCALENDAR
PRODID:-//github.com/rianjs/ical.net//NONSGML ical.net 4.0//EN
VERSION:2.0
BEGIN:VTIMEZONE
TZID:Pacific Standard Time
X-LIC-LOCATION:America/Los_Angeles
BEGIN:STANDARD
DTSTART:20241103T020000
RRULE:FREQ=YEARLY;BYDAY=1SU;BYMONTH=11
TZNAME:PST
TZOFFSETFROM:-0700
TZOFFSETTO:-0800
END:STANDARD
BEGIN:DAYLIGHT
DTSTART:20250309T020000
RRULE:FREQ=YEARLY;BYDAY=2SU;BYMONTH=3
TZNAME:PDT
TZOFFSETFROM:-0800
TZOFFSETTO:-0700
END:DAYLIGHT
END:VTIMEZONE
BEGIN:VEVENT
DESCRIPTION:2025 Annual Meeting by the American Academy of Neurology\n\nTi
 tle: Using AAN Guidelines to Become a Better Neurologist (Trainee Hub)\n\
 nAccess URL: https://www.aan.com/MSA/Public/Events/GetEventURL/18615\n\nL
 earn More About This Event: https://www.aan.com/MSA/Public/Events/Details
 /18615
DTEND;TZID=Pacific Standard Time:20250408T084500
DTSTAMP:20260421T082632Z
DTSTART;TZID=Pacific Standard Time:20250408T080000
LOCATION:https://www.aan.com/MSA/Public/Events/GetEventURL/18615
SEQUENCE:0
SUMMARY:AAN: Using AAN Guidelines to Become a Better Neurologist (Trainee 
 Hub)
UID:6b0dbb50-e26e-4e95-81a2-713b06a3447c
END:VEVENT
END:VCALENDAR
