BEGIN:VCALENDAR
PRODID:-//github.com/rianjs/ical.net//NONSGML ical.net 4.0//EN
VERSION:2.0
BEGIN:VTIMEZONE
TZID:Pacific Standard Time
X-LIC-LOCATION:America/Los_Angeles
BEGIN:STANDARD
DTSTART:20241103T020000
RRULE:FREQ=YEARLY;BYDAY=1SU;BYMONTH=11
TZNAME:PST
TZOFFSETFROM:-0700
TZOFFSETTO:-0800
END:STANDARD
BEGIN:DAYLIGHT
DTSTART:20250309T020000
RRULE:FREQ=YEARLY;BYDAY=2SU;BYMONTH=3
TZNAME:PDT
TZOFFSETFROM:-0800
TZOFFSETTO:-0700
END:DAYLIGHT
END:VTIMEZONE
BEGIN:VEVENT
DESCRIPTION:2025 Annual Meeting by the American Academy of Neurology\n\nTi
 tle: Wicked Problems and Impossible Choices: How to Successfully Map and 
 Navigate Polarities as a Leader (Leadership University)\n\nAccess URL: ht
 tps://www.aan.com/MSA/Public/Events/GetEventURL/18619\n\nLearn More About
  This Event: https://www.aan.com/MSA/Public/Events/Details/18619
DTEND;TZID=Pacific Standard Time:20250405T163000
DTSTAMP:20260421T081320Z
DTSTART;TZID=Pacific Standard Time:20250405T150000
LOCATION:https://www.aan.com/MSA/Public/Events/GetEventURL/18619
SEQUENCE:0
SUMMARY:AAN: Wicked Problems and Impossible Choices: How to Successfully M
 ap and Navigate Polarities as a Leader (Leadership University)
UID:ad22e34a-d76b-4e8b-b747-70d01c799a54
END:VEVENT
END:VCALENDAR
