BEGIN:VCALENDAR
PRODID:-//github.com/rianjs/ical.net//NONSGML ical.net 4.0//EN
VERSION:2.0
BEGIN:VTIMEZONE
TZID:Pacific Standard Time
X-LIC-LOCATION:America/Los_Angeles
BEGIN:STANDARD
DTSTART:20241103T020000
RRULE:FREQ=YEARLY;BYDAY=1SU;BYMONTH=11
TZNAME:PST
TZOFFSETFROM:-0700
TZOFFSETTO:-0800
END:STANDARD
BEGIN:DAYLIGHT
DTSTART:20250309T020000
RRULE:FREQ=YEARLY;BYDAY=2SU;BYMONTH=3
TZNAME:PDT
TZOFFSETFROM:-0800
TZOFFSETTO:-0700
END:DAYLIGHT
END:VTIMEZONE
BEGIN:VEVENT
DESCRIPTION:2025 Annual Meeting by the American Academy of Neurology\n\nTi
 tle: Consortium of Neurology Program Directors Business Meeting\n\nDescri
 ption: Annual business meeting for Neurology Residency and Fellowship Pro
 gram Directors. Discussions related to role of Residency and Fellowship D
 irectors\, award presentations\, etc.\n\nLearn More About This Event: htt
 ps://www.aan.com/MSA/Public/Events/Details/18670
DTEND;TZID=Pacific Standard Time:20250405T143000
DTSTAMP:20260421T082805Z
DTSTART;TZID=Pacific Standard Time:20250405T130000
LOCATION:https://www.aan.com/MSA/Public/Events/GetEventURL/18670
SEQUENCE:0
SUMMARY:AAN: Consortium of Neurology Program Directors Business Meeting
UID:30359787-8a52-469c-97ba-5058a09a0664
END:VEVENT
END:VCALENDAR
