BEGIN:VCALENDAR
PRODID:-//github.com/rianjs/ical.net//NONSGML ical.net 4.0//EN
VERSION:2.0
BEGIN:VTIMEZONE
TZID:Pacific Standard Time
X-LIC-LOCATION:America/Los_Angeles
BEGIN:STANDARD
DTSTART:20241103T020000
RRULE:FREQ=YEARLY;BYDAY=1SU;BYMONTH=11
TZNAME:PST
TZOFFSETFROM:-0700
TZOFFSETTO:-0800
END:STANDARD
BEGIN:DAYLIGHT
DTSTART:20250309T020000
RRULE:FREQ=YEARLY;BYDAY=2SU;BYMONTH=3
TZNAME:PDT
TZOFFSETFROM:-0800
TZOFFSETTO:-0700
END:DAYLIGHT
END:VTIMEZONE
BEGIN:VEVENT
DESCRIPTION:2025 Annual Meeting by the American Academy of Neurology\n\nTi
 tle: Neurology APP Fellowship Directors Meeting\n\nDescription: All neuro
 logists or APPs involved in running or are considering starting to run a 
 Neurology APP Fellowship are welcome. Important updates and discussion ar
 ound issues pertaining to Neurology APP fellowships will be discussed.  \
 n\nLearn More About This Event: https://www.aan.com/MSA/Public/Events/Det
 ails/18671
DTEND;TZID=Pacific Standard Time:20250406T130000
DTSTAMP:20260421T081121Z
DTSTART;TZID=Pacific Standard Time:20250406T120000
LOCATION:https://www.aan.com/MSA/Public/Events/GetEventURL/18671
SEQUENCE:0
SUMMARY:AAN: Neurology APP Fellowship Directors Meeting
UID:168e65b1-81ef-4056-a093-d135125b3933
END:VEVENT
END:VCALENDAR
