BEGIN:VCALENDAR
PRODID:-//github.com/rianjs/ical.net//NONSGML ical.net 4.0//EN
VERSION:2.0
BEGIN:VTIMEZONE
TZID:Pacific Standard Time
X-LIC-LOCATION:America/Los_Angeles
BEGIN:STANDARD
DTSTART:20241103T020000
RRULE:FREQ=YEARLY;BYDAY=1SU;BYMONTH=11
TZNAME:PST
TZOFFSETFROM:-0700
TZOFFSETTO:-0800
END:STANDARD
BEGIN:DAYLIGHT
DTSTART:20250309T020000
RRULE:FREQ=YEARLY;BYDAY=2SU;BYMONTH=3
TZNAME:PDT
TZOFFSETFROM:-0800
TZOFFSETTO:-0700
END:DAYLIGHT
END:VTIMEZONE
BEGIN:VEVENT
DESCRIPTION:2025 Annual Meeting by the American Academy of Neurology\n\nTi
 tle: UCLA Neurology Alumni Mixer\n\nDescription: Alumni for UCLA\n\nLearn
  More About This Event: https://www.aan.com/MSA/Public/Events/Details/186
 73
DTEND;TZID=Pacific Standard Time:20250408T200000
DTSTAMP:20260421T082858Z
DTSTART;TZID=Pacific Standard Time:20250408T183000
LOCATION:https://www.aan.com/MSA/Public/Events/GetEventURL/18673
SEQUENCE:0
SUMMARY:AAN: UCLA Neurology Alumni Mixer
UID:538d0182-cd17-4df6-9de9-210cf28ea66f
END:VEVENT
END:VCALENDAR
