BEGIN:VCALENDAR
PRODID:-//github.com/rianjs/ical.net//NONSGML ical.net 4.0//EN
VERSION:2.0
BEGIN:VTIMEZONE
TZID:Pacific Standard Time
X-LIC-LOCATION:America/Los_Angeles
BEGIN:STANDARD
DTSTART:20241103T020000
RRULE:FREQ=YEARLY;BYDAY=1SU;BYMONTH=11
TZNAME:PST
TZOFFSETFROM:-0700
TZOFFSETTO:-0800
END:STANDARD
BEGIN:DAYLIGHT
DTSTART:20250309T020000
RRULE:FREQ=YEARLY;BYDAY=2SU;BYMONTH=3
TZNAME:PDT
TZOFFSETFROM:-0800
TZOFFSETTO:-0700
END:DAYLIGHT
END:VTIMEZONE
BEGIN:VEVENT
DESCRIPTION:2025 Annual Meeting by the American Academy of Neurology\n\nTi
 tle: RosmanSearch Resident and Fellow Happy Hour\n\nDescription: A relaxe
 d networking event for residents\, fellows\, or job seekers to speak with
  experienced neurology recruiters and colleagues about the job market\, b
 est practices and what to expect in a job search\, and trends.\n\nLearn M
 ore About This Event: https://www.aan.com/MSA/Public/Events/Details/18678
DTEND;TZID=Pacific Standard Time:20250408T200000
DTSTAMP:20260421T081153Z
DTSTART;TZID=Pacific Standard Time:20250408T180000
LOCATION:https://www.aan.com/MSA/Public/Events/GetEventURL/18678
SEQUENCE:0
SUMMARY:AAN: RosmanSearch Resident and Fellow Happy Hour
UID:b77358da-5427-45b8-b301-1af195add135
END:VEVENT
END:VCALENDAR
