BEGIN:VCALENDAR
PRODID:-//github.com/rianjs/ical.net//NONSGML ical.net 4.0//EN
VERSION:2.0
BEGIN:VTIMEZONE
TZID:Pacific Standard Time
X-LIC-LOCATION:America/Los_Angeles
BEGIN:STANDARD
DTSTART:20241103T020000
RRULE:FREQ=YEARLY;BYDAY=1SU;BYMONTH=11
TZNAME:PST
TZOFFSETFROM:-0700
TZOFFSETTO:-0800
END:STANDARD
BEGIN:DAYLIGHT
DTSTART:20250309T020000
RRULE:FREQ=YEARLY;BYDAY=2SU;BYMONTH=3
TZNAME:PDT
TZOFFSETFROM:-0800
TZOFFSETTO:-0700
END:DAYLIGHT
END:VTIMEZONE
BEGIN:VEVENT
DESCRIPTION:2025 Annual Meeting by the American Academy of Neurology\n\nTi
 tle: National MS Society Mentoring and Fellowship Luncheon\n\nDescription
 : Host mentorship luncheon educating medical students\, residents\, postd
 ocs and fellows about fellowship and research grants\, along with other c
 areer support\, available from the National MS Society\n\nLearn More Abou
 t This Event: https://www.aan.com/MSA/Public/Events/Details/18720
DTEND;TZID=Pacific Standard Time:20250408T133000
DTSTAMP:20260421T081117Z
DTSTART;TZID=Pacific Standard Time:20250408T120000
LOCATION:https://www.aan.com/MSA/Public/Events/GetEventURL/18720
SEQUENCE:0
SUMMARY:AAN: National MS Society Mentoring and Fellowship Luncheon
UID:fda23cb6-90aa-44c1-b717-3d8b458e6280
END:VEVENT
END:VCALENDAR
