BEGIN:VCALENDAR
PRODID:-//github.com/rianjs/ical.net//NONSGML ical.net 4.0//EN
VERSION:2.0
BEGIN:VTIMEZONE
TZID:Pacific Standard Time
X-LIC-LOCATION:America/Los_Angeles
BEGIN:STANDARD
DTSTART:20241103T020000
RRULE:FREQ=YEARLY;BYDAY=1SU;BYMONTH=11
TZNAME:PST
TZOFFSETFROM:-0700
TZOFFSETTO:-0800
END:STANDARD
BEGIN:DAYLIGHT
DTSTART:20250309T020000
RRULE:FREQ=YEARLY;BYDAY=2SU;BYMONTH=3
TZNAME:PDT
TZOFFSETFROM:-0800
TZOFFSETTO:-0700
END:DAYLIGHT
END:VTIMEZONE
BEGIN:VEVENT
DESCRIPTION:2025 Annual Meeting by the American Academy of Neurology\n\nTi
 tle: PSG Future of Clinical Research Networking & Mentorship Event\n\nDes
 cription: Enjoy an informal evening networking reception with mentors fro
 m the Parkinson Study Group (PSG) for small group discussions about build
 ing a career in movement disorders and clinical research. Learn about the
  PSG network and funding opportunities\, and discuss your research intere
 sts. Students\, residents\, fellows and early career clinician-investigat
 ors are welcome to attend. Space is limited\, so please RSVP to donna.mos
 zkowicz@chet.rochester.edu\n\nLearn More About This Event: https://www.aa
 n.com/MSA/Public/Events/Details/18726
DTEND;TZID=Pacific Standard Time:20250407T200000
DTSTAMP:20260421T081152Z
DTSTART;TZID=Pacific Standard Time:20250407T180000
LOCATION:https://www.aan.com/MSA/Public/Events/GetEventURL/18726
SEQUENCE:0
SUMMARY:AAN: PSG Future of Clinical Research Networking & Mentorship Event
UID:e2a2439a-38b6-47c1-9eeb-0e1b5d0475a9
END:VEVENT
END:VCALENDAR
