BEGIN:VCALENDAR
PRODID:-//github.com/rianjs/ical.net//NONSGML ical.net 4.0//EN
VERSION:2.0
BEGIN:VTIMEZONE
TZID:Pacific Standard Time
X-LIC-LOCATION:America/Los_Angeles
BEGIN:STANDARD
DTSTART:20241103T020000
RRULE:FREQ=YEARLY;BYDAY=1SU;BYMONTH=11
TZNAME:PST
TZOFFSETFROM:-0700
TZOFFSETTO:-0800
END:STANDARD
BEGIN:DAYLIGHT
DTSTART:20250309T020000
RRULE:FREQ=YEARLY;BYDAY=2SU;BYMONTH=3
TZNAME:PDT
TZOFFSETFROM:-0800
TZOFFSETTO:-0700
END:DAYLIGHT
END:VTIMEZONE
BEGIN:VEVENT
DESCRIPTION:2025 Annual Meeting by the American Academy of Neurology\n\nTi
 tle: The Rhyme and Reason Why Poetry Is Pleasin': The Neuroscience Behind
  What Makes Poetry Memorable (Innovation Hub)\n\nAccess URL: https://www.
 aan.com/MSA/Public/Events/GetEventURL/18747\n\nLearn More About This Even
 t: https://www.aan.com/MSA/Public/Events/Details/18747
DTEND;TZID=Pacific Standard Time:20250406T152000
DTSTAMP:20260421T081123Z
DTSTART;TZID=Pacific Standard Time:20250406T145000
LOCATION:https://www.aan.com/MSA/Public/Events/GetEventURL/18747
SEQUENCE:0
SUMMARY:AAN: The Rhyme and Reason Why Poetry Is Pleasin': The Neuroscience
  Behind What Makes Poetry Memorable (Innovation Hub)
UID:df743d90-4bb5-4b25-a94b-0a4d2604963a
END:VEVENT
END:VCALENDAR
