BEGIN:VCALENDAR
PRODID:-//github.com/rianjs/ical.net//NONSGML ical.net 4.0//EN
VERSION:2.0
BEGIN:VTIMEZONE
TZID:Pacific Standard Time
X-LIC-LOCATION:America/Los_Angeles
BEGIN:STANDARD
DTSTART:20241103T020000
RRULE:FREQ=YEARLY;BYDAY=1SU;BYMONTH=11
TZNAME:PST
TZOFFSETFROM:-0700
TZOFFSETTO:-0800
END:STANDARD
BEGIN:DAYLIGHT
DTSTART:20250309T020000
RRULE:FREQ=YEARLY;BYDAY=2SU;BYMONTH=3
TZNAME:PDT
TZOFFSETFROM:-0800
TZOFFSETTO:-0700
END:DAYLIGHT
END:VTIMEZONE
BEGIN:VEVENT
DESCRIPTION:2025 Annual Meeting by the American Academy of Neurology\n\nTi
 tle: Exploring the Cosmos: Leverage Epic's EHR Large Data Set for Researc
 h\, Quality Improvement\, and Clinical Care (Innovation Hub)\n\nAccess UR
 L: https://www.aan.com/MSA/Public/Events/GetEventURL/18771\n\nLearn More 
 About This Event: https://www.aan.com/MSA/Public/Events/Details/18771
DTEND;TZID=Pacific Standard Time:20250408T142000
DTSTAMP:20260421T081250Z
DTSTART;TZID=Pacific Standard Time:20250408T135000
LOCATION:https://www.aan.com/MSA/Public/Events/GetEventURL/18771
SEQUENCE:0
SUMMARY:AAN: Exploring the Cosmos: Leverage Epic's EHR Large Data Set for 
 Research\, Quality Improvement\, and Clinical Care (Innovation Hub)
UID:bdfdad67-88e6-4dea-ab3a-c03441ef7bbc
END:VEVENT
END:VCALENDAR
