BEGIN:VCALENDAR
PRODID:-//github.com/rianjs/ical.net//NONSGML ical.net 4.0//EN
VERSION:2.0
BEGIN:VTIMEZONE
TZID:Pacific Standard Time
X-LIC-LOCATION:America/Los_Angeles
BEGIN:STANDARD
DTSTART:20241103T020000
RRULE:FREQ=YEARLY;BYDAY=1SU;BYMONTH=11
TZNAME:PST
TZOFFSETFROM:-0700
TZOFFSETTO:-0800
END:STANDARD
BEGIN:DAYLIGHT
DTSTART:20250309T020000
RRULE:FREQ=YEARLY;BYDAY=2SU;BYMONTH=3
TZNAME:PDT
TZOFFSETFROM:-0800
TZOFFSETTO:-0700
END:DAYLIGHT
END:VTIMEZONE
BEGIN:VEVENT
DESCRIPTION:2025 Annual Meeting by the American Academy of Neurology\n\nTi
 tle: Neurogenetics Through the Decade: A Journey of Progress and Insight\
 n\nAccess URL: https://www.aan.com/MSA/Public/Events/GetEventURL/18773\n\
 nLearn More About This Event: https://www.aan.com/MSA/Public/Events/Detai
 ls/18773
DTEND;TZID=Pacific Standard Time:20250407T140000
DTSTAMP:20260421T082553Z
DTSTART;TZID=Pacific Standard Time:20250407T130000
LOCATION:https://www.aan.com/MSA/Public/Events/GetEventURL/18773
SEQUENCE:0
SUMMARY:AAN: Neurogenetics Through the Decade: A Journey of Progress and I
 nsight
UID:e832f258-e6e7-45e8-b7b4-887e836ee5db
END:VEVENT
END:VCALENDAR
