BEGIN:VCALENDAR
PRODID:-//github.com/rianjs/ical.net//NONSGML ical.net 4.0//EN
VERSION:2.0
BEGIN:VTIMEZONE
TZID:Pacific Standard Time
X-LIC-LOCATION:America/Los_Angeles
BEGIN:STANDARD
DTSTART:20241103T020000
RRULE:FREQ=YEARLY;BYDAY=1SU;BYMONTH=11
TZNAME:PST
TZOFFSETFROM:-0700
TZOFFSETTO:-0800
END:STANDARD
BEGIN:DAYLIGHT
DTSTART:20250309T020000
RRULE:FREQ=YEARLY;BYDAY=2SU;BYMONTH=3
TZNAME:PDT
TZOFFSETFROM:-0800
TZOFFSETTO:-0700
END:DAYLIGHT
END:VTIMEZONE
BEGIN:VEVENT
DESCRIPTION:2025 Annual Meeting by the American Academy of Neurology\n\nTi
 tle: Neuroimmunology & Neuroinflammation 2015-2025: A View from 30\,000 F
 eet\n\nAccess URL: https://www.aan.com/MSA/Public/Events/GetEventURL/1877
 4\n\nLearn More About This Event: https://www.aan.com/MSA/Public/Events/D
 etails/18774
DTEND;TZID=Pacific Standard Time:20250407T160000
DTSTAMP:20260421T081116Z
DTSTART;TZID=Pacific Standard Time:20250407T150000
LOCATION:https://www.aan.com/MSA/Public/Events/GetEventURL/18774
SEQUENCE:0
SUMMARY:AAN: Neuroimmunology & Neuroinflammation 2015-2025: A View from 30
 \,000 Feet
UID:88d13250-4308-4aaf-8c7a-6cf544a1ded2
END:VEVENT
END:VCALENDAR
