BEGIN:VCALENDAR
PRODID:-//github.com/rianjs/ical.net//NONSGML ical.net 4.0//EN
VERSION:2.0
BEGIN:VTIMEZONE
TZID:Pacific Standard Time
X-LIC-LOCATION:America/Los_Angeles
BEGIN:STANDARD
DTSTART:20241103T020000
RRULE:FREQ=YEARLY;BYDAY=1SU;BYMONTH=11
TZNAME:PST
TZOFFSETFROM:-0700
TZOFFSETTO:-0800
END:STANDARD
BEGIN:DAYLIGHT
DTSTART:20250309T020000
RRULE:FREQ=YEARLY;BYDAY=2SU;BYMONTH=3
TZNAME:PDT
TZOFFSETFROM:-0800
TZOFFSETTO:-0700
END:DAYLIGHT
END:VTIMEZONE
BEGIN:VEVENT
DESCRIPTION:2025 Annual Meeting by the American Academy of Neurology\n\nTi
 tle: AAN Section Showcase: Autonomic Symptom Assessment and Treatment in 
 Movement Disorders\n\nAccess URL: https://www.aan.com/MSA/Public/Events/G
 etEventURL/18795\n\nLearn More About This Event: https://www.aan.com/MSA/
 Public/Events/Details/18795
DTEND;TZID=Pacific Standard Time:20250406T160000
DTSTAMP:20260421T082503Z
DTSTART;TZID=Pacific Standard Time:20250406T150000
LOCATION:https://www.aan.com/MSA/Public/Events/GetEventURL/18795
SEQUENCE:0
SUMMARY:AAN: AAN Section Showcase: Autonomic Symptom Assessment and Treatm
 ent in Movement Disorders
UID:739bf87a-91a2-4798-97e2-ea938d30f38a
END:VEVENT
END:VCALENDAR
