BEGIN:VCALENDAR
PRODID:-//github.com/rianjs/ical.net//NONSGML ical.net 4.0//EN
VERSION:2.0
BEGIN:VTIMEZONE
TZID:Pacific Standard Time
X-LIC-LOCATION:America/Los_Angeles
BEGIN:STANDARD
DTSTART:20241103T020000
RRULE:FREQ=YEARLY;BYDAY=1SU;BYMONTH=11
TZNAME:PST
TZOFFSETFROM:-0700
TZOFFSETTO:-0800
END:STANDARD
BEGIN:DAYLIGHT
DTSTART:20250309T020000
RRULE:FREQ=YEARLY;BYDAY=2SU;BYMONTH=3
TZNAME:PDT
TZOFFSETFROM:-0800
TZOFFSETTO:-0700
END:DAYLIGHT
END:VTIMEZONE
BEGIN:VEVENT
DESCRIPTION:2025 Annual Meeting by the American Academy of Neurology\n\nTi
 tle: It's Not Just Beer\, It's What the Culture's Feeling: A Beer Tasting
  Talk with Culture Brewing (Innovation Hub)\n\nAccess URL: https://www.aa
 n.com/MSA/Public/Events/GetEventURL/18799\n\nLearn More About This Event:
  https://www.aan.com/MSA/Public/Events/Details/18799
DTEND;TZID=Pacific Standard Time:20250409T150000
DTSTAMP:20260421T082503Z
DTSTART;TZID=Pacific Standard Time:20250409T143000
LOCATION:https://www.aan.com/MSA/Public/Events/GetEventURL/18799
SEQUENCE:0
SUMMARY:AAN: It's Not Just Beer\, It's What the Culture's Feeling: A Beer 
 Tasting Talk with Culture Brewing (Innovation Hub)
UID:42794154-7b8f-456c-a04c-bc50691c92f5
END:VEVENT
END:VCALENDAR
