BEGIN:VCALENDAR
PRODID:-//github.com/rianjs/ical.net//NONSGML ical.net 4.0//EN
VERSION:2.0
BEGIN:VTIMEZONE
TZID:Pacific Standard Time
X-LIC-LOCATION:America/Los_Angeles
BEGIN:STANDARD
DTSTART:20241103T020000
RRULE:FREQ=YEARLY;BYDAY=1SU;BYMONTH=11
TZNAME:PST
TZOFFSETFROM:-0700
TZOFFSETTO:-0800
END:STANDARD
BEGIN:DAYLIGHT
DTSTART:20250309T020000
RRULE:FREQ=YEARLY;BYDAY=2SU;BYMONTH=3
TZNAME:PDT
TZOFFSETFROM:-0800
TZOFFSETTO:-0700
END:DAYLIGHT
END:VTIMEZONE
BEGIN:VEVENT
DESCRIPTION:2025 Annual Meeting by the American Academy of Neurology\n\nTi
 tle: AAN Section Showcase: Issues with Neurodiagnostic Technologist Workf
 orce\n\nAccess URL: https://www.aan.com/MSA/Public/Events/GetEventURL/188
 15\n\nLearn More About This Event: https://www.aan.com/MSA/Public/Events/
 Details/18815
DTEND;TZID=Pacific Standard Time:20250407T090000
DTSTAMP:20260421T081451Z
DTSTART;TZID=Pacific Standard Time:20250407T080000
LOCATION:https://www.aan.com/MSA/Public/Events/GetEventURL/18815
SEQUENCE:0
SUMMARY:AAN: AAN Section Showcase: Issues with Neurodiagnostic Technologis
 t Workforce
UID:1ef91d93-771e-48c2-a932-4812e2fab6f6
END:VEVENT
END:VCALENDAR
